BEGIN:VCALENDAR
VERSION:2.0
PRODID:-//Ansford Parish Council//Meeting Calendar//EN
CALSCALE:GREGORIAN
METHOD:PUBLISH
BEGIN:VEVENT
UID:72423-20251203@ansford-pc.gov.uk
DTSTAMP:20260421T090148Z
DTSTART;VALUE=DATE:20251203
DTEND;VALUE=DATE:20251204
SUMMARY:Council Meeting: December 2025
DESCRIPTION:Full Council Meeting\nView details: https://ansford-pc.gov.uk/meetings/december-2025-meeting/
URL:https://ansford-pc.gov.uk/meetings/december-2025-meeting/
END:VEVENT
END:VCALENDAR
