BEGIN:VCALENDAR
VERSION:2.0
PRODID:-//Ansford Parish Council//Meeting Calendar//EN
CALSCALE:GREGORIAN
METHOD:PUBLISH
BEGIN:VEVENT
UID:70780-20240722@ansford-pc.gov.uk
DTSTAMP:20260423T082027Z
DTSTART;VALUE=DATE:20240722
DTEND;VALUE=DATE:20240723
SUMMARY:Extra Ordinary Meeting &#8211\\; 22nd July 2024
DESCRIPTION:Full Council Meeting\nView details: https://ansford-pc.gov.uk/meetings/extra-ordinary-meeting-22nd-july-2024/
URL:https://ansford-pc.gov.uk/meetings/extra-ordinary-meeting-22nd-july-2024/
END:VEVENT
END:VCALENDAR
