BEGIN:VCALENDAR
VERSION:2.0
PRODID:-//Ansford Parish Council//Meeting Calendar//EN
CALSCALE:GREGORIAN
METHOD:PUBLISH
BEGIN:VEVENT
UID:70614-20240710@ansford-pc.gov.uk
DTSTAMP:20260421T093256Z
DTSTART;VALUE=DATE:20240710
DTEND;VALUE=DATE:20240711
SUMMARY:Council Meeting &#8211\\; 10th July 2024
DESCRIPTION:Full Council Meeting\nView details: https://ansford-pc.gov.uk/meetings/council-meeting-10th-july-2024/
URL:https://ansford-pc.gov.uk/meetings/council-meeting-10th-july-2024/
END:VEVENT
END:VCALENDAR
